BEGIN:VCALENDAR
VERSION:2.0
PRODID:-//Cypress Point Resort - ECPv6.15.19//NONSGML v1.0//EN
CALSCALE:GREGORIAN
METHOD:PUBLISH
X-ORIGINAL-URL:https://cypresspointms.com
X-WR-CALDESC:Events for Cypress Point Resort
REFRESH-INTERVAL;VALUE=DURATION:PT1H
X-Robots-Tag:noindex
X-PUBLISHED-TTL:PT1H
BEGIN:VTIMEZONE
TZID:America/Chicago
BEGIN:DAYLIGHT
TZOFFSETFROM:-0600
TZOFFSETTO:-0500
TZNAME:CDT
DTSTART:20250309T080000
END:DAYLIGHT
BEGIN:STANDARD
TZOFFSETFROM:-0500
TZOFFSETTO:-0600
TZNAME:CST
DTSTART:20251102T070000
END:STANDARD
BEGIN:DAYLIGHT
TZOFFSETFROM:-0600
TZOFFSETTO:-0500
TZNAME:CDT
DTSTART:20260308T080000
END:DAYLIGHT
BEGIN:STANDARD
TZOFFSETFROM:-0500
TZOFFSETTO:-0600
TZNAME:CST
DTSTART:20261101T070000
END:STANDARD
BEGIN:DAYLIGHT
TZOFFSETFROM:-0600
TZOFFSETTO:-0500
TZNAME:CDT
DTSTART:20270314T080000
END:DAYLIGHT
BEGIN:STANDARD
TZOFFSETFROM:-0500
TZOFFSETTO:-0600
TZNAME:CST
DTSTART:20271107T070000
END:STANDARD
END:VTIMEZONE
BEGIN:VEVENT
DTSTART;TZID=America/Chicago:20260424T183000
DTEND;TZID=America/Chicago:20260424T213000
DTSTAMP:20260422T175350
CREATED:20260421T130914Z
LAST-MODIFIED:20260421T130914Z
UID:12954-1777055400-1777066200@cypresspointms.com
SUMMARY:Joseph La Salla
DESCRIPTION:
URL:https://cypresspointms.com/event/joseph-la-salla/
LOCATION:The Tavern\, 874 Holly Bush Road\, Brandon\, MS\, 39047\, United States
CATEGORIES:Monthly Entertainment
END:VEVENT
BEGIN:VEVENT
DTSTART;TZID=America/Chicago:20260424T190000
DTEND;TZID=America/Chicago:20260424T230000
DTSTAMP:20260422T175350
CREATED:20260421T131130Z
LAST-MODIFIED:20260421T131130Z
UID:12957-1777057200-1777071600@cypresspointms.com
SUMMARY:Madicole Band
DESCRIPTION:
URL:https://cypresspointms.com/event/madicole-band-9/
LOCATION:Cameron’s Garage\, 874 Holly Bush Road\, Brandon\, MS\, 39047\, United States
CATEGORIES:Monthly Entertainment
END:VEVENT
BEGIN:VEVENT
DTSTART;TZID=America/Chicago:20260425T183000
DTEND;TZID=America/Chicago:20260425T213000
DTSTAMP:20260422T175350
CREATED:20260421T131001Z
LAST-MODIFIED:20260421T131001Z
UID:12955-1777141800-1777152600@cypresspointms.com
SUMMARY:Chad Wesley
DESCRIPTION:
URL:https://cypresspointms.com/event/chad-wesley/
LOCATION:The Tavern\, 874 Holly Bush Road\, Brandon\, MS\, 39047\, United States
CATEGORIES:Monthly Entertainment
END:VEVENT
BEGIN:VEVENT
DTSTART;TZID=America/Chicago:20260425T190000
DTEND;TZID=America/Chicago:20260425T230000
DTSTAMP:20260422T175350
CREATED:20260421T131221Z
LAST-MODIFIED:20260421T131221Z
UID:12958-1777143600-1777158000@cypresspointms.com
SUMMARY:Cody Harvey Band
DESCRIPTION:
URL:https://cypresspointms.com/event/cody-harvey-band-2/
LOCATION:Cameron’s Garage\, 874 Holly Bush Road\, Brandon\, MS\, 39047\, United States
CATEGORIES:Monthly Entertainment
END:VEVENT
BEGIN:VEVENT
DTSTART;TZID=America/Chicago:20260426T153000
DTEND;TZID=America/Chicago:20260426T180000
DTSTAMP:20260422T175350
CREATED:20260421T131318Z
LAST-MODIFIED:20260421T131318Z
UID:12959-1777217400-1777226400@cypresspointms.com
SUMMARY:Josh Journeay & Blake Carroll
DESCRIPTION:
URL:https://cypresspointms.com/event/josh-journeay-blake-carroll/
LOCATION:Cameron’s Garage\, 874 Holly Bush Road\, Brandon\, MS\, 39047\, United States
CATEGORIES:Monthly Entertainment
END:VEVENT
END:VCALENDAR