BEGIN:VCALENDAR
VERSION:2.0
PRODID:-//Cypress Point Resort - ECPv6.15.19//NONSGML v1.0//EN
CALSCALE:GREGORIAN
METHOD:PUBLISH
X-ORIGINAL-URL:https://cypresspointms.com
X-WR-CALDESC:Events for Cypress Point Resort
REFRESH-INTERVAL;VALUE=DURATION:PT1H
X-Robots-Tag:noindex
X-PUBLISHED-TTL:PT1H
BEGIN:VTIMEZONE
TZID:America/Chicago
BEGIN:DAYLIGHT
TZOFFSETFROM:-0600
TZOFFSETTO:-0500
TZNAME:CDT
DTSTART:20250309T080000
END:DAYLIGHT
BEGIN:STANDARD
TZOFFSETFROM:-0500
TZOFFSETTO:-0600
TZNAME:CST
DTSTART:20251102T070000
END:STANDARD
BEGIN:DAYLIGHT
TZOFFSETFROM:-0600
TZOFFSETTO:-0500
TZNAME:CDT
DTSTART:20260308T080000
END:DAYLIGHT
BEGIN:STANDARD
TZOFFSETFROM:-0500
TZOFFSETTO:-0600
TZNAME:CST
DTSTART:20261101T070000
END:STANDARD
BEGIN:DAYLIGHT
TZOFFSETFROM:-0600
TZOFFSETTO:-0500
TZNAME:CDT
DTSTART:20270314T080000
END:DAYLIGHT
BEGIN:STANDARD
TZOFFSETFROM:-0500
TZOFFSETTO:-0600
TZNAME:CST
DTSTART:20271107T070000
END:STANDARD
END:VTIMEZONE
BEGIN:VEVENT
DTSTART;VALUE=DATE:20260418
DTEND;VALUE=DATE:20260419
DTSTAMP:20260423T085846
CREATED:20260225T162249Z
LAST-MODIFIED:20260317T144824Z
UID:12857-1776470400-1776556799@cypresspointms.com
SUMMARY:Family Day 2026
DESCRIPTION:Event Details: \nYardsale will start at 7am. \nWagon rides will be every hour starting at 11am to 4pm \nMovie at sundown \nBounce Houses and lots of fun ALL DAY!
URL:https://cypresspointms.com/event/family-day-2026/
LOCATION:Cypress Point Resort\, 874 Holly Bush Road\, Brandon\, MS\, 39047\, United States
CATEGORIES:Monthly Entertainment,Safari,Seasonal Events
END:VEVENT
BEGIN:VEVENT
DTSTART;TZID=America/Chicago:20260424T180000
DTEND;TZID=America/Chicago:20260424T223000
DTSTAMP:20260423T085846
CREATED:20260421T125503Z
LAST-MODIFIED:20260421T125717Z
UID:12949-1777053600-1777069800@cypresspointms.com
SUMMARY:Life's a Journey: Navigate the Cure
DESCRIPTION:Join us at the Lodge at Cypress Point Resort to support a cause that touches the lives of hundreds of families across Mississippi- those affected by leukemia\, lymphoma\, and other blood cancer.\nCocktail attire\, Hors D’oeuvres\, Live & Silent Auction.  Live music by the Stephens Brothers\, Ben Chapin\, Phillip Yarbrough\, Bradley Parker\, and more.
URL:https://cypresspointms.com/event/lifes-a-journey-navigate-the-cure/
LOCATION:The Lodge at Cypress Point\, 314 Clark Creek Road\, Brandon\, MS\, 39047\, United States
CATEGORIES:Monthly Entertainment,Seasonal Events
END:VEVENT
END:VCALENDAR